BEGIN:VCALENDAR
VERSION:2.0
PRODID:icalendar-ruby
CALSCALE:GREGORIAN
METHOD:PUBLISH
BEGIN:VEVENT
DTSTAMP:20260419T195716Z
UID:2-575356@abundantlife.tithelysetup5.com
DTSTART:20260918T233000Z
DTEND:20260919T013000Z
CLASS:PUBLIC
CREATED:20260419T145553
DESCRIPTION:Everyone is invited to our Friday night study. Bring the kids\,
  bring the family. We are reading through the bible chronologically and di
 scuss what we have read this week. Didn't read? No problem come anyway. We
  eat supper together at 6:30PM and have a discussion afterwards.
LAST-MODIFIED:20260419T145553
LOCATION:121 E Ahldag St Wharton\, TX 77488
SUMMARY:Friday Night Study
URL;VALUE=URI:https://www.abundantlifewharton.com/events/friday-night-study
 /2026-09-18
ATTACH;FILENAME=brooke-lark-93583-unsplash.jpg;FMTTYPE=image/jpeg:https://d
 q5pwpg1q8ru0.cloudfront.net/2023/09/11/17/30/25/b37b4903-513e-4fd7-ae50-48
 5122b56a01/brooke-lark-93583-unsplash.jpg
END:VEVENT
END:VCALENDAR
